BEGIN:VCALENDAR
VERSION:2.0
PRODID:-//Branched Oak Observatory - ECPv6.15.20//NONSGML v1.0//EN
CALSCALE:GREGORIAN
METHOD:PUBLISH
X-ORIGINAL-URL:https://branchedoakobservatory.com
X-WR-CALDESC:Events for Branched Oak Observatory
REFRESH-INTERVAL;VALUE=DURATION:PT1H
X-Robots-Tag:noindex
X-PUBLISHED-TTL:PT1H
BEGIN:VTIMEZONE
TZID:America/Chicago
BEGIN:DAYLIGHT
TZOFFSETFROM:-0600
TZOFFSETTO:-0500
TZNAME:CDT
DTSTART:20240310T080000
END:DAYLIGHT
BEGIN:STANDARD
TZOFFSETFROM:-0500
TZOFFSETTO:-0600
TZNAME:CST
DTSTART:20241103T070000
END:STANDARD
BEGIN:DAYLIGHT
TZOFFSETFROM:-0600
TZOFFSETTO:-0500
TZNAME:CDT
DTSTART:20250309T080000
END:DAYLIGHT
BEGIN:STANDARD
TZOFFSETFROM:-0500
TZOFFSETTO:-0600
TZNAME:CST
DTSTART:20251102T070000
END:STANDARD
BEGIN:DAYLIGHT
TZOFFSETFROM:-0600
TZOFFSETTO:-0500
TZNAME:CDT
DTSTART:20260308T080000
END:DAYLIGHT
BEGIN:STANDARD
TZOFFSETFROM:-0500
TZOFFSETTO:-0600
TZNAME:CST
DTSTART:20261101T070000
END:STANDARD
END:VTIMEZONE
BEGIN:VEVENT
DTSTART;TZID=America/Chicago:20250116T180000
DTEND;TZID=America/Chicago:20250116T210000
DTSTAMP:20260419T133840
CREATED:20241008T161035Z
LAST-MODIFIED:20241008T161035Z
UID:10000734-1737050400-1737061200@branchedoakobservatory.com
SUMMARY:MCC (Omaha) Community Education - Exploring the Winter Night Sky
DESCRIPTION:MCC (Omaha) Community Education – Exploring the Winter Night Sky \nProfessor Michael Sibbernsen \nIn this illuminating class\, you will learn to navigate the winter night sky and discover the enchanting celestial wonders that grace our universe during this season. Join us as we delve into the fascinating stories behind the constellations that adorn the winter sky. From Orion the Hunter to the dazzling Pleiades star cluster\, you’ll unravel the myths and legends that have been woven into the fabric of these celestial formations for centuries. Professor Michael Sibbernsen will guide you through the art of stargazing\, teaching you how to identify key stars\, planets\, and other celestial objects that shimmer across the winter canvas. Furthermore\, you will learn beginner information on how you can take pictures of outerspace on you own. \n\n\n\nDates:\nJanuary 16\, 2025\n\n\nMeets:\nTh from 6:00 PM to 9:00 PM\n\n\nLocation:\nMCC North Express 310\n\n\nCost:\n$65.00\n\n\n\nEnroll here… \nhttps://coned.mccneb.edu/wconnect/ace/EnrollmentCard.awp?&Course=25JASCIE054C&Mode=ECADD
URL:https://branchedoakobservatory.com/event/mcc-omaha-community-education-exploring-the-winter-night-sky/
LOCATION:MCC North Express – Metropolitan Community College
END:VEVENT
END:VCALENDAR