BEGIN:VCALENDAR
VERSION:2.0
PRODID:-//Branched Oak Observatory - ECPv6.15.20//NONSGML v1.0//EN
CALSCALE:GREGORIAN
METHOD:PUBLISH
X-WR-CALNAME:Branched Oak Observatory
X-ORIGINAL-URL:https://branchedoakobservatory.com
X-WR-CALDESC:Events for Branched Oak Observatory
REFRESH-INTERVAL;VALUE=DURATION:PT1H
X-Robots-Tag:noindex
X-PUBLISHED-TTL:PT1H
BEGIN:VTIMEZONE
TZID:America/Chicago
BEGIN:DAYLIGHT
TZOFFSETFROM:-0600
TZOFFSETTO:-0500
TZNAME:CDT
DTSTART:20250309T080000
END:DAYLIGHT
BEGIN:STANDARD
TZOFFSETFROM:-0500
TZOFFSETTO:-0600
TZNAME:CST
DTSTART:20251102T070000
END:STANDARD
BEGIN:DAYLIGHT
TZOFFSETFROM:-0600
TZOFFSETTO:-0500
TZNAME:CDT
DTSTART:20260308T080000
END:DAYLIGHT
BEGIN:STANDARD
TZOFFSETFROM:-0500
TZOFFSETTO:-0600
TZNAME:CST
DTSTART:20261101T070000
END:STANDARD
BEGIN:DAYLIGHT
TZOFFSETFROM:-0600
TZOFFSETTO:-0500
TZNAME:CDT
DTSTART:20270314T080000
END:DAYLIGHT
BEGIN:STANDARD
TZOFFSETFROM:-0500
TZOFFSETTO:-0600
TZNAME:CST
DTSTART:20271107T070000
END:STANDARD
END:VTIMEZONE
BEGIN:VEVENT
DTSTART;TZID=America/Chicago:20260801T200000
DTEND;TZID=America/Chicago:20260801T235900
DTSTAMP:20260419T162138
CREATED:20260218T061425Z
LAST-MODIFIED:20260219T215347Z
UID:10001482-1785614400-1785628740@branchedoakobservatory.com
SUMMARY:Friends of the BOO Star Party (by invitation only)
DESCRIPTION:A special THANK YOU to all of our special supporters by invitation only if you support with a monthly gift of $25 or more each month. We will have non-alcoholic refreshments and snacks\, (BYOB)\, special tour of the grounds and the night sky. Meet with co-founders\, Matt Anderson and Michael Sibbernsen.
URL:https://branchedoakobservatory.com/event/friends-of-the-boo-star-party/
LOCATION:Branched Oak Observatory\, 14300 NW 98th Street\, Raymond\, NE\, 68428\, United States
CATEGORIES:Private Event
END:VEVENT
BEGIN:VEVENT
DTSTART;TZID=America/Chicago:20260807T190000
DTEND;TZID=America/Chicago:20260807T210000
DTSTAMP:20260419T162138
CREATED:20260218T053348Z
LAST-MODIFIED:20260219T215438Z
UID:10001475-1786129200-1786136400@branchedoakobservatory.com
SUMMARY:Art Day at the BOO
DESCRIPTION:Come create your own art at the BOO.
URL:https://branchedoakobservatory.com/event/art-day-at-the-boo-3/
LOCATION:Branched Oak Observatory\, 14300 NW 98th Street\, Raymond\, NE\, 68428\, United States
CATEGORIES:General Public Event
END:VEVENT
BEGIN:VEVENT
DTSTART;TZID=America/Chicago:20260808T183000
DTEND;TZID=America/Chicago:20260808T220000
DTSTAMP:20260419T162138
CREATED:20260226T170015Z
LAST-MODIFIED:20260403T220926Z
UID:10001498-1786213800-1786226400@branchedoakobservatory.com
SUMMARY:Private Star Party
DESCRIPTION:Private star party\, for 26 people. Guests will bring pizza\, James Arthur Vineyard will provide wine which will be self served\, BOO will provide snacks (Lemonade\, cookies\, cheese\, etc). Will begin evening with programming for adults and children\, and then stargazing after dark.
URL:https://branchedoakobservatory.com/event/private-star-party-2/
LOCATION:Branched Oak Observatory\, 14300 NW 98th Street\, Raymond\, NE\, 68428\, United States
CATEGORIES:Private Event
END:VEVENT
BEGIN:VEVENT
DTSTART;TZID=America/Chicago:20260815T170000
DTEND;TZID=America/Chicago:20260815T235900
DTSTAMP:20260419T162138
CREATED:20260218T062254Z
LAST-MODIFIED:20260219T215517Z
UID:10001483-1786813200-1786838340@branchedoakobservatory.com
SUMMARY:1st Annual Astrocon at the BOO(like a comic-con\, but cooler)
DESCRIPTION:Come to the Branched Oak Observatory’s first annual Astrocon and have fun as we explore the past that looked to the future. Come dressed in your favorite space gear/character and mingle with like minded individuals\, We will have multiple vendors\, book authors and other fun engagement activities.
URL:https://branchedoakobservatory.com/event/1st-annual-astrocon-at-the-boolike-a-comic-con-but-cooler/
LOCATION:Branched Oak Observatory\, 14300 NW 98th Street\, Raymond\, NE\, 68428\, United States
CATEGORIES:General Public Event
END:VEVENT
BEGIN:VEVENT
DTSTART;TZID=America/Chicago:20260815T170000
DTEND;TZID=America/Chicago:20260815T235900
DTSTAMP:20260419T162138
CREATED:20260218T062748Z
LAST-MODIFIED:20260219T215720Z
UID:10001485-1786813200-1786838340@branchedoakobservatory.com
SUMMARY:1st Annual Astrocon at the BOO (like a comic-con\, but cooler)
DESCRIPTION:Come to the 1st annual Astrocon at the BOO. Come in your favorite space-themed gear or character and mingle with like minded people. We will have multiple food and beverage venders\, book authors\, space crafts and other classroom activities as we honor the past by looking at the future.
URL:https://branchedoakobservatory.com/event/1st-annual-astrocon-at-the-boo-like-a-comic-con-but-cooler/
LOCATION:Branched Oak Observatory\, 14300 NW 98th Street\, Raymond\, NE\, 68428\, United States
CATEGORIES:General Public Event
END:VEVENT
BEGIN:VEVENT
DTSTART;TZID=America/Chicago:20260821T193000
DTEND;TZID=America/Chicago:20260821T230000
DTSTAMP:20260419T162138
CREATED:20260218T050631Z
LAST-MODIFIED:20260218T050631Z
UID:10001465-1787340600-1787353200@branchedoakobservatory.com
SUMMARY:Silent Book Club
DESCRIPTION:Open to the General Public – FREE ADMISSION \nJoin us for another session of our popular Silent Book Club! \nBring your book (or ebook or audiobook w/earbuds) and read quietly for an hour. Or grab a book from our wonderful astronomy library! No pressure\, no book assignments\, no book report…a stress-free opportunity to read under the evening sky. We will have coffee and water on hand\, but feel free to bring your own drinks and snacks. You are also encouraged to bring a lawn chair or blanket and pillow. \nAfter our silent reading time and optional discussion\, our staff will take you on a tour of the facility and once dark\, observe beautiful objects in the night sky through our various telescopes. Even if the skies are cloudy\, you can enjoy our exhibits and astronomy videos in the Multipurpose Center. Dress warm for the outside observing. \n7:30 – 8:00 pm – Gather\, chat\, grab a pastry\, pour yourself a cup of coffee or tea (we’re ok with BYOB too!)\n8:00 – 9:00 pm – Quiet reading of your choice\n9:00 – 9:30 pm – Discuss (or not) as the spirit moves you\n9:30 – 11:00 pm – Enjoy a tour of the observatory\, and weather permitting\, view night sky objects with our collection of telescopes \nThere is no cost for this event. Donations to the observatory are encouraged and appreciated. \nPlease note\, our Silent Book Club events can only offer limited observing opportunities. Join us for our monthly public “Star Party” events for more opportunities through more telescopes. \nConfirmed Volunteers: Carol Wells
URL:https://branchedoakobservatory.com/event/silent-book-club-6/
LOCATION:Branched Oak Observatory\, 14300 NW 98th Street\, Raymond\, NE\, 68428\, United States
CATEGORIES:General Public Event
END:VEVENT
BEGIN:VEVENT
DTSTART;TZID=America/Chicago:20260822T200000
DTEND;TZID=America/Chicago:20260822T235900
DTSTAMP:20260419T162138
CREATED:20260218T062412Z
LAST-MODIFIED:20260219T215913Z
UID:10001484-1787428800-1787443140@branchedoakobservatory.com
SUMMARY:James Arthur Vineyards wine and star-gazing night (ticketed event)
DESCRIPTION:Come enjoy a variety of James Arthur Vineyard wines and charcuterie. Enjoy a private tour of the BOO grounds and a night sky presentation in the classroom\, followed by a tour of the night sky\, weather permitting. This is a ticketed event\, tickets are $35 per person. Go to www.jamesarthurvineyards.com to purchase tickets.
URL:https://branchedoakobservatory.com/event/james-arthur-vineyards-wine-and-star-gazing-night-ticketed-event-3/
LOCATION:Branched Oak Observatory\, 14300 NW 98th Street\, Raymond\, NE\, 68428\, United States
CATEGORIES:Private Event
END:VEVENT
END:VCALENDAR