BEGIN:VCALENDAR
VERSION:2.0
PRODID:-//Branched Oak Observatory - ECPv6.15.20//NONSGML v1.0//EN
CALSCALE:GREGORIAN
METHOD:PUBLISH
X-ORIGINAL-URL:https://branchedoakobservatory.com
X-WR-CALDESC:Events for Branched Oak Observatory
REFRESH-INTERVAL;VALUE=DURATION:PT1H
X-Robots-Tag:noindex
X-PUBLISHED-TTL:PT1H
BEGIN:VTIMEZONE
TZID:America/Chicago
BEGIN:DAYLIGHT
TZOFFSETFROM:-0600
TZOFFSETTO:-0500
TZNAME:CDT
DTSTART:20250309T080000
END:DAYLIGHT
BEGIN:STANDARD
TZOFFSETFROM:-0500
TZOFFSETTO:-0600
TZNAME:CST
DTSTART:20251102T070000
END:STANDARD
BEGIN:DAYLIGHT
TZOFFSETFROM:-0600
TZOFFSETTO:-0500
TZNAME:CDT
DTSTART:20260308T080000
END:DAYLIGHT
BEGIN:STANDARD
TZOFFSETFROM:-0500
TZOFFSETTO:-0600
TZNAME:CST
DTSTART:20261101T070000
END:STANDARD
BEGIN:DAYLIGHT
TZOFFSETFROM:-0600
TZOFFSETTO:-0500
TZNAME:CDT
DTSTART:20270314T080000
END:DAYLIGHT
BEGIN:STANDARD
TZOFFSETFROM:-0500
TZOFFSETTO:-0600
TZNAME:CST
DTSTART:20271107T070000
END:STANDARD
END:VTIMEZONE
BEGIN:VEVENT
DTSTART;TZID=America/Chicago:20260605T190000
DTEND;TZID=America/Chicago:20260605T210000
DTSTAMP:20260419T125744
CREATED:20260218T053251Z
LAST-MODIFIED:20260219T213826Z
UID:10001472-1780686000-1780693200@branchedoakobservatory.com
SUMMARY:Art Day at the BOO
DESCRIPTION:Come create your own art at the BOO.
URL:https://branchedoakobservatory.com/event/art-day-at-the-boo/
LOCATION:Branched Oak Observatory\, 14300 NW 98th Street\, Raymond\, NE\, 68428\, United States
CATEGORIES:General Public Event
END:VEVENT
BEGIN:VEVENT
DTSTART;TZID=America/Chicago:20260607T130000
DTEND;TZID=America/Chicago:20260607T150000
DTSTAMP:20260419T125744
CREATED:20260218T050008Z
LAST-MODIFIED:20260219T213924Z
UID:10001459-1780837200-1780844400@branchedoakobservatory.com
SUMMARY:Childrens Reading Circle
DESCRIPTION:Kids ages 3 to 8\, to enjoy stories of earth and space followed by craft time\, kids will be able to take home their craft when finished. Kids attending will be free of charge. General admission otherwise is $5 each person.
URL:https://branchedoakobservatory.com/event/childrens-reading-circle-4/
LOCATION:Branched Oak Observatory\, 14300 NW 98th Street\, Raymond\, NE\, 68428\, United States
CATEGORIES:General Public Event
END:VEVENT
BEGIN:VEVENT
DTSTART;TZID=America/Chicago:20260613T190000
DTEND;TZID=America/Chicago:20260613T230000
DTSTAMP:20260419T125744
CREATED:20260218T053858Z
LAST-MODIFIED:20260219T214023Z
UID:10001477-1781377200-1781391600@branchedoakobservatory.com
SUMMARY:James Arthur Vineyards wine and star-gazing night (ticketed event)
DESCRIPTION:Come enjoy a variety of James Arthur Vineyard wines and charcuterie. Enjoy a private tour of the BOO grounds and a night sky presentation in the classroom\, followed by a tour of the night sky\, weather permitting. This is a ticketed event\, tickets are $35 per person. Go to www.jamesarthurvineyards.com to purchase tickets.
URL:https://branchedoakobservatory.com/event/james-arthur-vineyards-wine-and-star-gazing-night-ticketed-event-2/
LOCATION:Branched Oak Observatory\, 14300 NW 98th Street\, Raymond\, NE\, 68428\, United States
CATEGORIES:Private Event
END:VEVENT
BEGIN:VEVENT
DTSTART;TZID=America/Chicago:20260620T160000
DTEND;TZID=America/Chicago:20260620T235900
DTSTAMP:20260419T125744
CREATED:20260218T054524Z
LAST-MODIFIED:20260219T214423Z
UID:10001478-1781971200-1781999940@branchedoakobservatory.com
SUMMARY:Military Appreciation Day (active duty\, veterans and families)
DESCRIPTION:All active duty\, veterans and their families are invited to enjoy a day of fun and relaxation at the BOO. We will have a live band (Last Minute Band)\, food and beverage trucks\, 501st Legion (Star Wars reenactment group)\, more details to follow. Free entrance for all military members.
URL:https://branchedoakobservatory.com/event/military-appreciation-day-active-duty-veterans-and-families/
LOCATION:Branched Oak Observatory\, 14300 NW 98th Street\, Raymond\, NE\, 68428\, United States
CATEGORIES:General Public Event
END:VEVENT
BEGIN:VEVENT
DTSTART;TZID=America/Chicago:20260626T193000
DTEND;TZID=America/Chicago:20260626T230000
DTSTAMP:20260419T125744
CREATED:20260218T040135Z
LAST-MODIFIED:20260218T054605Z
UID:10001447-1782502200-1782514800@branchedoakobservatory.com
SUMMARY:Silent Book Club
DESCRIPTION:Open to the General Public – FREE ADMISSION \nJoin us for another session of our popular Silent Book Club! \nBring your book (or ebook or audiobook w/earbuds) and read quietly for an hour. Or grab a book from our wonderful astronomy library! No pressure\, no book assignments\, no book report…a stress-free opportunity to read under the evening sky. We will have coffee and water on hand\, but feel free to bring your own drinks and snacks. You are also encouraged to bring a lawn chair or blanket and pillow. \nAfter our silent reading time and optional discussion\, our staff will take you on a tour of the facility and once dark\, observe beautiful objects in the night sky through our various telescopes. Even if the skies are cloudy\, you can enjoy our exhibits and astronomy videos in the Multipurpose Center. Dress warm for the outside observing. \n7:30 – 8:00 pm – Gather\, chat\, grab a pastry\, pour yourself a cup of coffee or tea (we’re ok with BYOB too!)\n8:00 – 9:00 pm – Quiet reading of your choice\n9:00 – 9:30 pm – Discuss (or not) as the spirit moves you\n9:30 – 11:00 pm – Enjoy a tour of the observatory\, and weather permitting\, view night sky objects with our collection of telescopes \nThere is no cost for this event. Donations to the observatory are encouraged and appreciated. \nPlease note\, our Silent Book Club events can only offer limited observing opportunities. Join us for our monthly public “Star Party” events for more opportunities through more telescopes. \nConfirmed Volunteers: Carol Wells
URL:https://branchedoakobservatory.com/event/silent-book-club-4/
LOCATION:Branched Oak Observatory\, 14300 NW 98th Street\, Raymond\, NE\, 68428\, United States
CATEGORIES:General Public Event
END:VEVENT
END:VCALENDAR