BEGIN:VCALENDAR
VERSION:2.0
PRODID:-//Branched Oak Observatory - ECPv6.15.20//NONSGML v1.0//EN
CALSCALE:GREGORIAN
METHOD:PUBLISH
X-ORIGINAL-URL:https://branchedoakobservatory.com
X-WR-CALDESC:Events for Branched Oak Observatory
REFRESH-INTERVAL;VALUE=DURATION:PT1H
X-Robots-Tag:noindex
X-PUBLISHED-TTL:PT1H
BEGIN:VTIMEZONE
TZID:America/Chicago
BEGIN:DAYLIGHT
TZOFFSETFROM:-0600
TZOFFSETTO:-0500
TZNAME:CDT
DTSTART:20250309T080000
END:DAYLIGHT
BEGIN:STANDARD
TZOFFSETFROM:-0500
TZOFFSETTO:-0600
TZNAME:CST
DTSTART:20251102T070000
END:STANDARD
BEGIN:DAYLIGHT
TZOFFSETFROM:-0600
TZOFFSETTO:-0500
TZNAME:CDT
DTSTART:20260308T080000
END:DAYLIGHT
BEGIN:STANDARD
TZOFFSETFROM:-0500
TZOFFSETTO:-0600
TZNAME:CST
DTSTART:20261101T070000
END:STANDARD
BEGIN:DAYLIGHT
TZOFFSETFROM:-0600
TZOFFSETTO:-0500
TZNAME:CDT
DTSTART:20270314T080000
END:DAYLIGHT
BEGIN:STANDARD
TZOFFSETFROM:-0500
TZOFFSETTO:-0600
TZNAME:CST
DTSTART:20271107T070000
END:STANDARD
END:VTIMEZONE
BEGIN:VEVENT
DTSTART;TZID=America/Chicago:20260124T180000
DTEND;TZID=America/Chicago:20260125T220000
DTSTAMP:20260420T005640
CREATED:20260101T235151Z
LAST-MODIFIED:20260101T235151Z
UID:10001442-1769277600-1769378400@branchedoakobservatory.com
SUMMARY:Cub Scouts Pack 461
DESCRIPTION:
URL:https://branchedoakobservatory.com/event/cub-scouts-pack-461/
LOCATION:Branched Oak Observatory\, 14300 NW 98th Street\, Raymond\, NE\, 68428\, United States
END:VEVENT
BEGIN:VEVENT
DTSTART;TZID=America/Chicago:20260124T190000
DTEND;TZID=America/Chicago:20260124T230000
DTSTAMP:20260420T005640
CREATED:20260117T040834Z
LAST-MODIFIED:20260117T040914Z
UID:10001443-1769281200-1769295600@branchedoakobservatory.com
SUMMARY:Jupiter Rising (rain date)
DESCRIPTION:This event was moved from Jan 17th to Jan 24th.
URL:https://branchedoakobservatory.com/event/jupiter-rising-rain-date/
LOCATION:Branched Oak Observatory\, 14300 NW 98th Street\, Raymond\, NE\, 68428\, United States
CATEGORIES:General Public Event
END:VEVENT
BEGIN:VEVENT
DTSTART;TZID=America/Chicago:20260214T180000
DTEND;TZID=America/Chicago:20260214T220000
DTSTAMP:20260420T005640
CREATED:20250903T160040Z
LAST-MODIFIED:20251221T232437Z
UID:10001420-1771092000-1771106400@branchedoakobservatory.com
SUMMARY:Reserve for Cosmos & Cocktails - Outreach to Morrill Hall
DESCRIPTION:Branched Oak Observatory\, along with a number of other Astronomy and Earth Science educators\, will be working with the State Museum\, Morrill Hall\, on this wonderful event.\n\nYou can find additional information including purchasing tickets at\n\nhttps://museum.unl.edu/programs-events/cosmosandcocktails.html
URL:https://branchedoakobservatory.com/event/reserve-for-cosmos-cocktails-outreach-to-morrill-hall/
LOCATION:Branched Oak Observatory\, 14300 NW 98th Street\, Raymond\, NE\, 68428\, United States
END:VEVENT
BEGIN:VEVENT
DTSTART;TZID=America/Chicago:20260220T183000
DTEND;TZID=America/Chicago:20260220T220000
DTSTAMP:20260420T005640
CREATED:20260218T035421Z
LAST-MODIFIED:20260218T035946Z
UID:10001444-1771612200-1771624800@branchedoakobservatory.com
SUMMARY:Silent Book Club
DESCRIPTION:Open to the General Public – FREE ADMISSION \nJoin us for another session of our popular Silent Book Club! \nBring your book (or ebook or audiobook w/earbuds) and read quietly for an hour. Or grab a book from our wonderful astronomy library! No pressure\, no book assignments\, no book report…a stress-free opportunity to read under the evening sky. We will have coffee and water on hand\, but feel free to bring your own drinks and snacks. You are also encouraged to bring a lawn chair or blanket and pillow. \nAfter our silent reading time and optional discussion\, our staff will take you on a tour of the facility and once dark\, observe beautiful objects in the night sky through our various telescopes. Even if the skies are cloudy\, you can enjoy our exhibits and astronomy videos in the Multipurpose Center. Dress warm for the outside observing. \n7:30 – 8:00 pm – Gather\, chat\, grab a pastry\, pour yourself a cup of coffee or tea (we’re ok with BYOB too!)\n8:00 – 9:00 pm – Quiet reading of your choice\n9:00 – 9:30 pm – Discuss (or not) as the spirit moves you\n9:30 – 11:00 pm – Enjoy a tour of the observatory\, and weather permitting\, view night sky objects with our collection of telescopes \nThere is no cost for this event. Donations to the observatory are encouraged and appreciated. \nPlease note\, our Silent Book Club events can only offer limited observing opportunities. Join us for our monthly public “Star Party” events for more opportunities through more telescopes. \nConfirmed Volunteers: Carol Wells
URL:https://branchedoakobservatory.com/event/silent-book-club/
LOCATION:Branched Oak Observatory\, 14300 NW 98th Street\, Raymond\, NE\, 68428\, United States
CATEGORIES:General Public Event
END:VEVENT
BEGIN:VEVENT
DTSTART;TZID=America/Chicago:20260221T150000
DTEND;TZID=America/Chicago:20260222T080000
DTSTAMP:20260420T005640
CREATED:20250915T185942Z
LAST-MODIFIED:20260219T211751Z
UID:10001425-1771686000-1771747200@branchedoakobservatory.com
SUMMARY:Reserve for Cub Scout Pack overnight
DESCRIPTION:Scout troop will start arriving at 3pm for set-up and solar viewing\, programming and then night viewing. Troop will provide supper. Fire pit will be available for use. Troop will stay overnight in multipurpose building or tents on facility grounds. Contact person is T Thompson.
URL:https://branchedoakobservatory.com/event/reserve-for-cub-scout-pack-overnight/
LOCATION:Branched Oak Observatory\, 14300 NW 98th Street\, Raymond\, NE\, 68428\, United States
CATEGORIES:Private Event
END:VEVENT
BEGIN:VEVENT
DTSTART;TZID=America/Chicago:20260224T180000
DTEND;TZID=America/Chicago:20260224T200000
DTSTAMP:20260420T005640
CREATED:20260218T042021Z
LAST-MODIFIED:20260219T211911Z
UID:10001448-1771956000-1771963200@branchedoakobservatory.com
SUMMARY:Fredstrom Elementary STEM Night
DESCRIPTION:Volunteers need to arrive at 5:15 for set up\, enter in the main door. Fredstrom Elementary is located at 5700 NW 10th Street in Lincoln. Visitors will enjoy a variety of activities including space crafts and holding a real rock from outer space\, Mike the Meteorite.
URL:https://branchedoakobservatory.com/event/fredstrom-elementary-stem-night/
LOCATION:Branched Oak Observatory\, 14300 NW 98th Street\, Raymond\, NE\, 68428\, United States
CATEGORIES:General Public Event
END:VEVENT
BEGIN:VEVENT
DTSTART;TZID=America/Chicago:20260228T110000
DTEND;TZID=America/Chicago:20260228T150000
DTSTAMP:20260420T005640
CREATED:20260218T042637Z
LAST-MODIFIED:20260219T212129Z
UID:10001449-1772276400-1772290800@branchedoakobservatory.com
SUMMARY:Aviation STEM Day in Omaha at Oakview Mall
DESCRIPTION:Note to volunteers:\nSetup begins at 8:30am — Be ready to go by 10:45 — 3:00pm Event End\nBring your needed Tables & Chairs\nNeed Electrical–bring 100′ Extension cord\, Let us know IN ADVANCE\nSame Floor Assignment as Last Year\nSame Exhibit Off Load for your respective Floor (1st. & 2nd)
URL:https://branchedoakobservatory.com/event/aviation-stem-day-in-omaha-at-oakview-mall/
LOCATION:Branched Oak Observatory\, 14300 NW 98th Street\, Raymond\, NE\, 68428\, United States
CATEGORIES:General Public Event
END:VEVENT
BEGIN:VEVENT
DTSTART;TZID=America/Chicago:20260301T113000
DTEND;TZID=America/Chicago:20260301T130000
DTSTAMP:20260420T005640
CREATED:20260218T042845Z
LAST-MODIFIED:20260219T212247Z
UID:10001450-1772364600-1772370000@branchedoakobservatory.com
SUMMARY:BOO Board Meeting
DESCRIPTION:All Board members are requested to attend\,
URL:https://branchedoakobservatory.com/event/boo-board-meeting/
LOCATION:Branched Oak Observatory\, 14300 NW 98th Street\, Raymond\, NE\, 68428\, United States
CATEGORIES:Private Event
END:VEVENT
BEGIN:VEVENT
DTSTART;TZID=America/Chicago:20260301T130000
DTEND;TZID=America/Chicago:20260301T150000
DTSTAMP:20260420T005640
CREATED:20260218T045855Z
LAST-MODIFIED:20260219T212455Z
UID:10001456-1772370000-1772377200@branchedoakobservatory.com
SUMMARY:Childrens Reading Circle
DESCRIPTION:Kids ages 3 to 8\, to enjoy stories of earth and space followed by craft time\, kids will be able to take home their craft when finished. Kids attending will be free of charge. General admission otherwise is $5 each person.
URL:https://branchedoakobservatory.com/event/childrens-reading-circle/
LOCATION:Branched Oak Observatory\, 14300 NW 98th Street\, Raymond\, NE\, 68428\, United States
CATEGORIES:General Public Event
END:VEVENT
BEGIN:VEVENT
DTSTART;TZID=America/Chicago:20260303T023000
DTEND;TZID=America/Chicago:20260303T070000
DTSTAMP:20260420T005640
CREATED:20260218T043315Z
LAST-MODIFIED:20260219T212629Z
UID:10001451-1772505000-1772521200@branchedoakobservatory.com
SUMMARY:Total Lunar Eclipse-Full Worm Moon
DESCRIPTION:Lunar eclipse- total(begins at 2:44 am\, maximum at 5:33 am\, ends at 7 am. BOO is not staffed for this event. Guests may come view at our field\, but buildings will not be open.
URL:https://branchedoakobservatory.com/event/total-lunar-eclipse-full-worm-moon/
LOCATION:Branched Oak Observatory\, 14300 NW 98th Street\, Raymond\, NE\, 68428\, United States
CATEGORIES:General Public Event
END:VEVENT
BEGIN:VEVENT
DTSTART;TZID=America/Chicago:20260307T100000
DTEND;TZID=America/Chicago:20260307T140000
DTSTAMP:20260420T005640
CREATED:20260224T024400Z
LAST-MODIFIED:20260224T024400Z
UID:10001496-1772877600-1772892000@branchedoakobservatory.com
SUMMARY:UNO STEM TRAIL Center - Matt & Michael
DESCRIPTION:Matt & Michael will be at the UNO STEM TRAIL Center giving a talk about the history of the Branched Oak Observatory in one of the Break Out Rooms for the conference.
URL:https://branchedoakobservatory.com/event/uno-stem-trail-center-matt-michael/
LOCATION:Branched Oak Observatory\, 14300 NW 98th Street\, Raymond\, NE\, 68428\, United States
CATEGORIES:General Public Event
END:VEVENT
BEGIN:VEVENT
DTSTART;TZID=America/Chicago:20260307T180000
DTEND;TZID=America/Chicago:20260307T210000
DTSTAMP:20260420T005640
CREATED:20260224T023736Z
LAST-MODIFIED:20260224T023833Z
UID:10001495-1772906400-1772917200@branchedoakobservatory.com
SUMMARY:Girl Scout Troop 50564 A Night at the BOO
DESCRIPTION:Girl Scout Troop 50564 from Ft. Calhoun will be visiting along with their parents and troop leaders.  Arriving at 6pm they will be introduced to an exciting night sky tour class by Michael Sibbernsen and also will have a hands on experience with Mike the Meteorite.  Followed by a walking tour of the night sky.  That along with an amazing array of telescopes manned by our expert staff of volunteers.  Attendees should contact Kelli with any questions about the event.
URL:https://branchedoakobservatory.com/event/girl-scout-troop-50564-a-night-at-the-boo/
LOCATION:Branched Oak Observatory\, 14300 NW 98th Street\, Raymond\, NE\, 68428\, United States
CATEGORIES:Private Event
END:VEVENT
BEGIN:VEVENT
DTSTART;TZID=America/Chicago:20260313T193000
DTEND;TZID=America/Chicago:20260313T233000
DTSTAMP:20260420T005640
CREATED:20260222T042450Z
LAST-MODIFIED:20260224T023336Z
UID:10001494-1773430200-1773444600@branchedoakobservatory.com
SUMMARY:UNL Astronomy Club
DESCRIPTION:UNL Astronomy Club (Private Event)  Food\, Fun and astronomical viewing.  For additional details contact Shams.
URL:https://branchedoakobservatory.com/event/unl-astronomy-club/
LOCATION:Branched Oak Observatory\, 14300 NW 98th Street\, Raymond\, NE\, 68428\, United States
CATEGORIES:Private Event
END:VEVENT
BEGIN:VEVENT
DTSTART;TZID=America/Chicago:20260314T190000
DTEND;TZID=America/Chicago:20260314T230000
DTSTAMP:20260420T005640
CREATED:20260305T011438Z
LAST-MODIFIED:20260305T011438Z
UID:10001499-1773514800-1773529200@branchedoakobservatory.com
SUMMARY:Paranormal Investigating Experience
DESCRIPTION:Come join us7-11pm for a night of hands-on Paranormal Investigation Experience at the Branched Oak Observatory on Saturday the 14th\, March 2026. If you have ever wanted to learn how real investigations are run\, this is your chance to step into it and experience it in a location with the right atmosphere for it.\n\n\nAdmission: $20 per person\n$10 per 10 and under\n\n\n\nWhat to expect:\n\n\nHands-on experience with our paranormal tools\nYou are welcome to bring your own paranormal gear\nShare hauntings and personal stories\nA live\, active paranormal investigation\nThe opportunity to apply to become a Paranormal L.I.G.H.T.S member\nLearn outer space stuff and more\n\nLead Paranormal Investigator Nick Downs will lead this experience.
URL:https://branchedoakobservatory.com/event/paranormal-investigating-experience/
LOCATION:Branched Oak Observatory\, 14300 NW 98th Street\, Raymond\, NE\, 68428\, United States
CATEGORIES:General Public Event
END:VEVENT
BEGIN:VEVENT
DTSTART;TZID=America/Chicago:20260320T183000
DTEND;TZID=America/Chicago:20260320T220000
DTSTAMP:20260420T005640
CREATED:20260218T040028Z
LAST-MODIFIED:20260219T212704Z
UID:10001445-1774031400-1774044000@branchedoakobservatory.com
SUMMARY:Silent Book Club
DESCRIPTION:Open to the General Public – FREE ADMISSION \nJoin us for another session of our popular Silent Book Club! \nBring your book (or ebook or audiobook w/earbuds) and read quietly for an hour. Or grab a book from our wonderful astronomy library! No pressure\, no book assignments\, no book report…a stress-free opportunity to read under the evening sky. We will have coffee and water on hand\, but feel free to bring your own drinks and snacks. You are also encouraged to bring a lawn chair or blanket and pillow. \nAfter our silent reading time and optional discussion\, our staff will take you on a tour of the facility and once dark\, observe beautiful objects in the night sky through our various telescopes. Even if the skies are cloudy\, you can enjoy our exhibits and astronomy videos in the Multipurpose Center. Dress warm for the outside observing. \n7:30 – 8:00 pm – Gather\, chat\, grab a pastry\, pour yourself a cup of coffee or tea (we’re ok with BYOB too!)\n8:00 – 9:00 pm – Quiet reading of your choice\n9:00 – 9:30 pm – Discuss (or not) as the spirit moves you\n9:30 – 11:00 pm – Enjoy a tour of the observatory\, and weather permitting\, view night sky objects with our collection of telescopes \nThere is no cost for this event. Donations to the observatory are encouraged and appreciated. \nPlease note\, our Silent Book Club events can only offer limited observing opportunities. Join us for our monthly public “Star Party” events for more opportunities through more telescopes. \nConfirmed Volunteers: Carol Wells
URL:https://branchedoakobservatory.com/event/silent-book-club-2/
LOCATION:Branched Oak Observatory\, 14300 NW 98th Street\, Raymond\, NE\, 68428\, United States
CATEGORIES:General Public Event
END:VEVENT
BEGIN:VEVENT
DTSTART;TZID=America/Chicago:20260321T193000
DTEND;TZID=America/Chicago:20260322T063000
DTSTAMP:20260420T005640
CREATED:20260218T043737Z
LAST-MODIFIED:20260219T212813Z
UID:10001452-1774121400-1774161000@branchedoakobservatory.com
SUMMARY:Messier Marathon (best weekend)
DESCRIPTION:Marathon is a dusk-to-dawn event. BOO staff and buildings will be open for the duration.
URL:https://branchedoakobservatory.com/event/messier-marathon-best-weekend/
LOCATION:Branched Oak Observatory\, 14300 NW 98th Street\, Raymond\, NE\, 68428\, United States
CATEGORIES:General Public Event
END:VEVENT
BEGIN:VEVENT
DTSTART;TZID=America/Chicago:20260410T170000
DTEND;TZID=America/Chicago:20260410T210000
DTSTAMP:20260420T005640
CREATED:20260410T200028Z
LAST-MODIFIED:20260410T200028Z
UID:10001505-1775840400-1775854800@branchedoakobservatory.com
SUMMARY:Artemis II Splashdown Party
DESCRIPTION:Come and join us for the Artemis II Splashdown party! Doors open at 5pm! Come join us with Mike the Meteorite as we watch history in the making!\nA Limited Edition T-shirt is available for only $20 and light snacks will be provided with your $5.00 admission! We’ll see you tonight at 5pm!
URL:https://branchedoakobservatory.com/event/artemis-ii-splashdown-party/
LOCATION:Branched Oak Observatory\, 14300 NW 98th Street\, Raymond\, NE\, 68428\, United States
CATEGORIES:General Public Event
END:VEVENT
BEGIN:VEVENT
DTSTART;TZID=America/Chicago:20260411T170000
DTEND;TZID=America/Chicago:20260411T210000
DTSTAMP:20260420T005640
CREATED:20260218T044115Z
LAST-MODIFIED:20260219T213010Z
UID:10001453-1775926800-1775941200@branchedoakobservatory.com
SUMMARY:Morrill Hall Annual Astronomy Night-outreach
DESCRIPTION:Come and visit us at our booth in Morrill Hall and learn about the Branched Oak Observatory.
URL:https://branchedoakobservatory.com/event/morrill-hall-annual-astronomy-night-outreach/
LOCATION:Branched Oak Observatory\, 14300 NW 98th Street\, Raymond\, NE\, 68428\, United States
CATEGORIES:General Public Event,Special Outreach Event
END:VEVENT
BEGIN:VEVENT
DTSTART;TZID=America/Chicago:20260411T180000
DTEND;TZID=America/Chicago:20260411T230000
DTSTAMP:20260420T005640
CREATED:20250903T160154Z
LAST-MODIFIED:20250903T162547Z
UID:10001421-1775930400-1775948400@branchedoakobservatory.com
SUMMARY:Reserve for Astronomy Night - Outreach to Morrill Hall
DESCRIPTION:
URL:https://branchedoakobservatory.com/event/reserve-for-astronomy-night-outreach-to-morrill-hall/
LOCATION:Branched Oak Observatory\, 14300 NW 98th Street\, Raymond\, NE\, 68428\, United States
END:VEVENT
BEGIN:VEVENT
DTSTART;TZID=America/Chicago:20260412T130000
DTEND;TZID=America/Chicago:20260412T150000
DTSTAMP:20260420T005640
CREATED:20260218T045919Z
LAST-MODIFIED:20260318T203045Z
UID:10001457-1775998800-1776006000@branchedoakobservatory.com
SUMMARY:Childrens Reading Circle
DESCRIPTION:Kids ages 3 to 8\, to enjoy stories of earth and space followed by craft time\, kids will be able to take home their craft when finished. Kids attending will be free of charge. General admission otherwise is $5 each person.
URL:https://branchedoakobservatory.com/event/childrens-reading-circle-2/
LOCATION:Branched Oak Observatory\, 14300 NW 98th Street\, Raymond\, NE\, 68428\, United States
CATEGORIES:General Public Event
END:VEVENT
BEGIN:VEVENT
DTSTART;TZID=America/Chicago:20260413T080000
DTEND;TZID=America/Chicago:20260413T233000
DTSTAMP:20260420T005640
CREATED:20260225T034223Z
LAST-MODIFIED:20260225T034223Z
UID:10001497-1776067200-1776123000@branchedoakobservatory.com
SUMMARY:International Dark Sky Week April 13th-20th
DESCRIPTION:April 13-30: International Dark Sky Week (IDSW). You can find details at https://idsw.darksky.org/\, including virtual programming.  Branched Oak Observatory will be participating.  Watch for further notices of events.
URL:https://branchedoakobservatory.com/event/international-dark-sky-week-april-13th-20th/
LOCATION:Branched Oak Observatory\, 14300 NW 98th Street\, Raymond\, NE\, 68428\, United States
CATEGORIES:General Public Event
END:VEVENT
BEGIN:VEVENT
DTSTART;TZID=America/Chicago:20260417T173000
DTEND;TZID=America/Chicago:20260417T190000
DTSTAMP:20260420T005640
CREATED:20260218T040110Z
LAST-MODIFIED:20260318T204514Z
UID:10001446-1776447000-1776452400@branchedoakobservatory.com
SUMMARY:Silent Book Club
DESCRIPTION:Open to the general public- FREE ADMISSION! Join us for another session of our popular Silent Book Club! This month\, we will be meeting in the Miller Astrophotography Research Center (the double-dome building)\, or if the weather is nice\, you are welcome to read outside. \nBring your book (or ebook or audiobook with earbuds) and read quietly for an hour. Or grab a book from our wonderful astronomy library! No pressure\, no book assignments\, no book report…a stress-free opportunity to read under the evening sky. We will have coffee and water on hand\, but feel free to bring your own drinks and snacks. You are also encouraged to bring a lawn chair or blanket and pillow. \nAfter our silent reading time\, you are invited to head to the Multipurpose Center for a special video presentation “Defending the Dark”. This presentation is free\, but we request that you sign up fort tickets if you are interested. \nGet your FREE tickets at https://kinema.com/events/Defending-the-Dark-bbd5ng \n5:30-6:00pm-gather\, chat\, grab a pastry\, pour yourself a cup of coffee or tea (we’re ok with BYOB too!) \n6:00-7:00pm-Quiet reading of your choice \n7:00pm-you are invited to head to the Kunkel Family Multipurpose Center for a special presentation (see above) \nThere is no cost for this event. Donations to the observatory are encouraged and appreciated. \nConfirmed Volunteers: Carol Wells
URL:https://branchedoakobservatory.com/event/silent-book-club-3/
LOCATION:Branched Oak Observatory\, 14300 NW 98th Street\, Raymond\, NE\, 68428\, United States
CATEGORIES:General Public Event
END:VEVENT
BEGIN:VEVENT
DTSTART;TZID=America/Chicago:20260417T190000
DTEND;TZID=America/Chicago:20260417T230000
DTSTAMP:20260420T005640
CREATED:20260310T195319Z
LAST-MODIFIED:20260310T200014Z
UID:10001501-1776452400-1776466800@branchedoakobservatory.com
SUMMARY:Defending the Dark – A Special Film Event at Branched Oak Observatory
DESCRIPTION:  \nGet your FREE tickets at https://kinema.com/events/Defending-the-Dark-bbd5ng \n  \nDefending the Dark – A Special Film Event at Branched Oak Observatory \nThe night sky is one of humanity’s oldest shared treasures\, yet for many people today the stars are slowly disappearing behind the glow of artificial light. In recognition of International Dark Sky Week\, Branched Oak Observatory invites you to a special community screening of the powerful documentary Defending the Dark on Friday\, April 17th at 7:00 PM. \nDirected by Tara Roberts Zabriskie\, Defending the Dark explores the urgent need to protect our remaining dark skies. While the film highlights the unique night sky of northern Maine\, its message reaches far beyond one region. Light pollution affects all of us\, disrupting wildlife\, harming migrating birds and pollinators\, impacting human health\, wasting energy\, and robbing communities of the awe-inspiring beauty of the stars above. \nThis inspiring and informative film tells the story of people working to preserve some of the darkest skies east of the Rocky Mountains and reminds us that meaningful change can begin in our own backyards. Protecting the night is not just about saving the stars—it’s about protecting nature\, science\, and the well-being of future generations. \nFollowing the film\, weather permitting\, the observatory will open for guided stargazing. Visitors will have the opportunity to step outside under the real night sky and explore beautiful deep-space wonders through our variety of telescopes—an unforgettable reminder of why dark skies matter. \nJoin us for an evening of inspiration\, learning\, and discovery beneath the stars. \nWith special thanks to The Sibbernsen Family for sponsoring the showing of this film at Branched Oak Observatory. \n  \nGet your FREE tickets at https://kinema.com/events/Defending-the-Dark-bbd5ng
URL:https://branchedoakobservatory.com/event/defending-the-dark-a-special-film-event-at-branched-oak-observatory/
LOCATION:Branched Oak Observatory\, 14300 NW 98th Street\, Raymond\, NE\, 68428\, United States
END:VEVENT
BEGIN:VEVENT
DTSTART;TZID=America/Chicago:20260418T080000
DTEND;TZID=America/Chicago:20260419T080000
DTSTAMP:20260420T005640
CREATED:20260218T044647Z
LAST-MODIFIED:20260219T213219Z
UID:10001454-1776499200-1776585600@branchedoakobservatory.com
SUMMARY:Orbital Odyssey II
DESCRIPTION:10 mile loop timed bike race starts at The Branched Oak Observatory field at 8AM on April 18th until racers completion.\nFor information and registration to participate\, go to https://www.bikereg.com/73653
URL:https://branchedoakobservatory.com/event/orbital-odyssey-ii/
LOCATION:Branched Oak Observatory\, 14300 NW 98th Street\, Raymond\, NE\, 68428\, United States
CATEGORIES:General Public Event
END:VEVENT
BEGIN:VEVENT
DTSTART;TZID=America/Chicago:20260424T080000
DTEND;TZID=America/Chicago:20260424T170000
DTSTAMP:20260420T005640
CREATED:20260324T185619Z
LAST-MODIFIED:20260324T185619Z
UID:10001504-1777017600-1777050000@branchedoakobservatory.com
SUMMARY:Scout overnight
DESCRIPTION:
URL:https://branchedoakobservatory.com/event/scout-overnight/
LOCATION:Branched Oak Observatory\, 14300 NW 98th Street\, Raymond\, NE\, 68428\, United States
CATEGORIES:Private Event
END:VEVENT
BEGIN:VEVENT
DTSTART;TZID=America/Chicago:20260425T190000
DTEND;TZID=America/Chicago:20260425T230000
DTSTAMP:20260420T005640
CREATED:20260218T045232Z
LAST-MODIFIED:20260219T213326Z
UID:10001455-1777143600-1777158000@branchedoakobservatory.com
SUMMARY:James Arthur Vineyards wine and star-gazing night (ticketed event)
DESCRIPTION:Come enjoy a variety of James Arthur Vineyard wines and charcuterie. Enjoy a private tour of the BOO grounds and a night sky presentation in the classroom\, followed by a tour of the night sky\, weather permitting. This is a ticketed event\, tickets are $35 per person. Go to www.jamesarthurvineyards.com to purchase tickets.
URL:https://branchedoakobservatory.com/event/james-arthur-vineyards-wine-and-star-gazing-night-ticketed-event/
LOCATION:Branched Oak Observatory\, 14300 NW 98th Street\, Raymond\, NE\, 68428\, United States
CATEGORIES:Private Event
END:VEVENT
BEGIN:VEVENT
DTSTART;TZID=America/Chicago:20260502T190000
DTEND;TZID=America/Chicago:20260502T230000
DTSTAMP:20260420T005640
CREATED:20260311T213108Z
LAST-MODIFIED:20260324T185329Z
UID:10001502-1777748400-1777762800@branchedoakobservatory.com
SUMMARY:Cub Scout Pack 461 Overnight
DESCRIPTION:Tentative Hold for Cub Scout Overnight.  Steve Jaworski is contact
URL:https://branchedoakobservatory.com/event/cub-scout-overnight-tentative-hold/
LOCATION:Branched Oak Observatory\, 14300 NW 98th Street\, Raymond\, NE\, 68428\, United States
CATEGORIES:Private Event
END:VEVENT
BEGIN:VEVENT
DTSTART;TZID=America/Chicago:20260502T190000
DTEND;TZID=America/Chicago:20260502T233000
DTSTAMP:20260420T005640
CREATED:20260311T213209Z
LAST-MODIFIED:20260311T213537Z
UID:10001503-1777748400-1777764600@branchedoakobservatory.com
SUMMARY:Cub Scout Pack 461 Overnight (Tentative Hold)
DESCRIPTION:Tentative Hold for Cub Scout Overnight.  Steve Jaworski is contact
URL:https://branchedoakobservatory.com/event/cub-scout-overnight-tentative-hold-2/
LOCATION:Branched Oak Observatory\, 14300 NW 98th Street\, Raymond\, NE\, 68428\, United States
CATEGORIES:Private Event
END:VEVENT
BEGIN:VEVENT
DTSTART;TZID=America/Chicago:20260503T130000
DTEND;TZID=America/Chicago:20260503T150000
DTSTAMP:20260420T005640
CREATED:20260218T045941Z
LAST-MODIFIED:20260219T213421Z
UID:10001458-1777813200-1777820400@branchedoakobservatory.com
SUMMARY:Childrens Reading Circle
DESCRIPTION:Kids ages 3 to 8\, to enjoy stories of earth and space followed by craft time\, kids will be able to take home their craft when finished. Kids attending will be free of charge. General admission otherwise is $5 each person.
URL:https://branchedoakobservatory.com/event/childrens-reading-circle-3/
LOCATION:Branched Oak Observatory\, 14300 NW 98th Street\, Raymond\, NE\, 68428\, United States
CATEGORIES:General Public Event
END:VEVENT
BEGIN:VEVENT
DTSTART;TZID=America/Chicago:20260510T130000
DTEND;TZID=America/Chicago:20260510T170000
DTSTAMP:20260420T005640
CREATED:20260218T052951Z
LAST-MODIFIED:20260219T213534Z
UID:10001471-1778418000-1778432400@branchedoakobservatory.com
SUMMARY:Mothers Day
DESCRIPTION:All Mom’s and Grandma’s enter free. Mom’s of all 2 and four legged children:) Kids and other adults $5 each.
URL:https://branchedoakobservatory.com/event/mothers-day/
LOCATION:Branched Oak Observatory\, 14300 NW 98th Street\, Raymond\, NE\, 68428\, United States
CATEGORIES:General Public Event
END:VEVENT
END:VCALENDAR