BEGIN:VCALENDAR
VERSION:2.0
PRODID:-//Branched Oak Observatory - ECPv6.15.20//NONSGML v1.0//EN
CALSCALE:GREGORIAN
METHOD:PUBLISH
X-ORIGINAL-URL:https://branchedoakobservatory.com
X-WR-CALDESC:Events for Branched Oak Observatory
REFRESH-INTERVAL;VALUE=DURATION:PT1H
X-Robots-Tag:noindex
X-PUBLISHED-TTL:PT1H
BEGIN:VTIMEZONE
TZID:America/Chicago
BEGIN:DAYLIGHT
TZOFFSETFROM:-0600
TZOFFSETTO:-0500
TZNAME:CDT
DTSTART:20250309T080000
END:DAYLIGHT
BEGIN:STANDARD
TZOFFSETFROM:-0500
TZOFFSETTO:-0600
TZNAME:CST
DTSTART:20251102T070000
END:STANDARD
BEGIN:DAYLIGHT
TZOFFSETFROM:-0600
TZOFFSETTO:-0500
TZNAME:CDT
DTSTART:20260308T080000
END:DAYLIGHT
BEGIN:STANDARD
TZOFFSETFROM:-0500
TZOFFSETTO:-0600
TZNAME:CST
DTSTART:20261101T070000
END:STANDARD
BEGIN:DAYLIGHT
TZOFFSETFROM:-0600
TZOFFSETTO:-0500
TZNAME:CDT
DTSTART:20270314T080000
END:DAYLIGHT
BEGIN:STANDARD
TZOFFSETFROM:-0500
TZOFFSETTO:-0600
TZNAME:CST
DTSTART:20271107T070000
END:STANDARD
END:VTIMEZONE
BEGIN:VEVENT
DTSTART;TZID=America/Chicago:20261120T183000
DTEND;TZID=America/Chicago:20261120T220000
DTSTAMP:20260420T004440
CREATED:20260218T050745Z
LAST-MODIFIED:20260218T050753Z
UID:10001468-1795199400-1795212000@branchedoakobservatory.com
SUMMARY:Silent Book Club
DESCRIPTION:Open to the General Public – FREE ADMISSION \nJoin us for another session of our popular Silent Book Club! \nBring your book (or ebook or audiobook w/earbuds) and read quietly for an hour. Or grab a book from our wonderful astronomy library! No pressure\, no book assignments\, no book report…a stress-free opportunity to read under the evening sky. We will have coffee and water on hand\, but feel free to bring your own drinks and snacks. You are also encouraged to bring a lawn chair or blanket and pillow. \nAfter our silent reading time and optional discussion\, our staff will take you on a tour of the facility and once dark\, observe beautiful objects in the night sky through our various telescopes. Even if the skies are cloudy\, you can enjoy our exhibits and astronomy videos in the Multipurpose Center. Dress warm for the outside observing. \n7:30 – 8:00 pm – Gather\, chat\, grab a pastry\, pour yourself a cup of coffee or tea (we’re ok with BYOB too!)\n8:00 – 9:00 pm – Quiet reading of your choice\n9:00 – 9:30 pm – Discuss (or not) as the spirit moves you\n9:30 – 11:00 pm – Enjoy a tour of the observatory\, and weather permitting\, view night sky objects with our collection of telescopes \nThere is no cost for this event. Donations to the observatory are encouraged and appreciated. \nPlease note\, our Silent Book Club events can only offer limited observing opportunities. Join us for our monthly public “Star Party” events for more opportunities through more telescopes. \nConfirmed Volunteers: Carol Wells
URL:https://branchedoakobservatory.com/event/silent-book-club-9/
LOCATION:Branched Oak Observatory\, 14300 NW 98th Street\, Raymond\, NE\, 68428\, United States
CATEGORIES:General Public Event
END:VEVENT
BEGIN:VEVENT
DTSTART;TZID=America/Chicago:20261206T130000
DTEND;TZID=America/Chicago:20261206T150000
DTSTAMP:20260420T004440
CREATED:20260218T050232Z
LAST-MODIFIED:20260219T222203Z
UID:10001463-1796562000-1796569200@branchedoakobservatory.com
SUMMARY:Childrens Reading Circle
DESCRIPTION:Kids ages 3 to 8\, to enjoy stories of earth and space followed by craft time\, kids will be able to take home their craft when finished. Kids attending will be free of charge. General admission otherwise is $5 each person.
URL:https://branchedoakobservatory.com/event/childrens-reading-circle-8/
LOCATION:Branched Oak Observatory\, 14300 NW 98th Street\, Raymond\, NE\, 68428\, United States
CATEGORIES:General Public Event
END:VEVENT
BEGIN:VEVENT
DTSTART;TZID=America/Chicago:20261212T200000
DTEND;TZID=America/Chicago:20261212T235900
DTSTAMP:20260420T004440
CREATED:20260218T074438Z
LAST-MODIFIED:20260218T074438Z
UID:10001493-1797105600-1797119940@branchedoakobservatory.com
SUMMARY:Seasons End Star Party with the Geminids Meteor Shower
DESCRIPTION:Come to our seasons end star party featuring the Geminids Meteor Showers.
URL:https://branchedoakobservatory.com/event/seasons-end-star-party-with-the-geminids-meteor-shower/
LOCATION:Branched Oak Observatory\, 14300 NW 98th Street\, Raymond\, NE\, 68428\, United States
CATEGORIES:General Public Event
END:VEVENT
BEGIN:VEVENT
DTSTART;TZID=America/Chicago:20261218T183000
DTEND;TZID=America/Chicago:20261218T220000
DTSTAMP:20260420T004440
CREATED:20260218T050810Z
LAST-MODIFIED:20260218T050810Z
UID:10001469-1797618600-1797631200@branchedoakobservatory.com
SUMMARY:Silent Book Club
DESCRIPTION:Open to the General Public – FREE ADMISSION \nJoin us for another session of our popular Silent Book Club! \nBring your book (or ebook or audiobook w/earbuds) and read quietly for an hour. Or grab a book from our wonderful astronomy library! No pressure\, no book assignments\, no book report…a stress-free opportunity to read under the evening sky. We will have coffee and water on hand\, but feel free to bring your own drinks and snacks. You are also encouraged to bring a lawn chair or blanket and pillow. \nAfter our silent reading time and optional discussion\, our staff will take you on a tour of the facility and once dark\, observe beautiful objects in the night sky through our various telescopes. Even if the skies are cloudy\, you can enjoy our exhibits and astronomy videos in the Multipurpose Center. Dress warm for the outside observing. \n7:30 – 8:00 pm – Gather\, chat\, grab a pastry\, pour yourself a cup of coffee or tea (we’re ok with BYOB too!)\n8:00 – 9:00 pm – Quiet reading of your choice\n9:00 – 9:30 pm – Discuss (or not) as the spirit moves you\n9:30 – 11:00 pm – Enjoy a tour of the observatory\, and weather permitting\, view night sky objects with our collection of telescopes \nThere is no cost for this event. Donations to the observatory are encouraged and appreciated. \nPlease note\, our Silent Book Club events can only offer limited observing opportunities. Join us for our monthly public “Star Party” events for more opportunities through more telescopes. \nConfirmed Volunteers: Carol Wells
URL:https://branchedoakobservatory.com/event/silent-book-club-10/
LOCATION:Branched Oak Observatory\, 14300 NW 98th Street\, Raymond\, NE\, 68428\, United States
CATEGORIES:General Public Event
END:VEVENT
END:VCALENDAR