BEGIN:VCALENDAR
VERSION:2.0
PRODID:-//Branched Oak Observatory - ECPv6.15.20//NONSGML v1.0//EN
CALSCALE:GREGORIAN
METHOD:PUBLISH
X-ORIGINAL-URL:https://branchedoakobservatory.com
X-WR-CALDESC:Events for Branched Oak Observatory
REFRESH-INTERVAL;VALUE=DURATION:PT1H
X-Robots-Tag:noindex
X-PUBLISHED-TTL:PT1H
BEGIN:VTIMEZONE
TZID:America/Chicago
BEGIN:DAYLIGHT
TZOFFSETFROM:-0600
TZOFFSETTO:-0500
TZNAME:CDT
DTSTART:20250309T080000
END:DAYLIGHT
BEGIN:STANDARD
TZOFFSETFROM:-0500
TZOFFSETTO:-0600
TZNAME:CST
DTSTART:20251102T070000
END:STANDARD
BEGIN:DAYLIGHT
TZOFFSETFROM:-0600
TZOFFSETTO:-0500
TZNAME:CDT
DTSTART:20260308T080000
END:DAYLIGHT
BEGIN:STANDARD
TZOFFSETFROM:-0500
TZOFFSETTO:-0600
TZNAME:CST
DTSTART:20261101T070000
END:STANDARD
BEGIN:DAYLIGHT
TZOFFSETFROM:-0600
TZOFFSETTO:-0500
TZNAME:CDT
DTSTART:20270314T080000
END:DAYLIGHT
BEGIN:STANDARD
TZOFFSETFROM:-0500
TZOFFSETTO:-0600
TZNAME:CST
DTSTART:20271107T070000
END:STANDARD
END:VTIMEZONE
BEGIN:VEVENT
DTSTART;TZID=America/Chicago:20261114T180000
DTEND;TZID=America/Chicago:20261114T220000
DTSTAMP:20260419T223820
CREATED:20260218T074130Z
LAST-MODIFIED:20260218T074130Z
UID:10001492-1794679200-1794693600@branchedoakobservatory.com
SUMMARY:3rd Annual It's gettin' chili cookoff
DESCRIPTION:It’s Gettin’ Chili Cook-Off and Star Party \nJoin us for an evening of hot competition and cool stargazing! Calling all chili enthusiasts and night-sky dreamers to our Chili Cook-Off and Stargazing event!\nIf you’ve got a chili recipe that can pack a punch\, bring your best Traditional (no beans) or Homestyle (with beans) chili and enter the competition. Not a chef? No problem! Come hungry\, savor a variety of chilies\, and cast your vote as a People’s Choice judge. White/blond/chicken chilies (and side dishes) are welcome to be served\, but only red chilies will face off in the official contest. And don’t hold back on those toppings – all the fixings are welcome! \nTrophies and the ultimate chili bragging rights await the top 3 winners!\nOnce you’ve voted on your favorite chili\, head outside and our observatory volunteers will take you on a cosmic journey\, showcasing the wonders of the night sky through our telescopes (weather permitting). This will be our final big event of the year\, and we’re closing it out with a big bang! Dress warm\, it’s chilly out there.\nCome for the chili\, stay for the stars – we can’t wait to share this unforgettable evening with you. \nFor our Non-Competitors / Tasting Judges:\n• Admission is $10 for Adults. $5 for Children (5 to 15).\n• Anyone can judge (and compete) including the general public and our observatory volunteers.\n• Tasting and judging will take place between 6:30 and 7:30pm.\n• Results will be announced between 7:45 and 8:00pm.\n• Iced Tea will be available. Feel free to bring your own drinks.\n• Observing opportunities will be between 7:00 and 10:00pm. Be sure to bundle up; It may be cold. \nFor Our Chili Competitors:\n• The Chili Cook and their Sous-chef  (one extra family member) receive FREE Admission. Additional family members must pay regular admission.\n• Primary cooking must be done at home\, although “last minute ingredients” can be added during your set-up. Table space with electrical outlets will be provided for your crock pot\, cast-iron pot with hot plate\, or other serving container.\n• Only red chilies (traditional Texas and home style) will be judged. White chilies are welcome to add variety but are not part of the competition.\n• Set-up will be between 5:30 and 6:30pm. Service begins at 6:30. You can set up after 6:30\, but you may miss out on valuable votes.\n• Anyone can compete (and judge) including the general public and our observatory volunteers.\n• Trophy winners will be announced between 7:45 and 8:00pm\n• Please bring your own chili serving ladle and other serving utensils if your optional topings need them. Service bowls\, spoons\, and napkins will be provided for our tasters. \n– Admission: $10 for Adults. $5 for Children (5 to 15).  FREE for individual Chili Cook AND one extra family member.\n– No Registration\n– Open to Everyone – Great for the Entire Family!\n– Arrive Anytime Between the Times Given\n– Stay for the Entire Event or As Long As You Want\n– No Park Permit Required\n– No Telescope Needed – But you are welcome to bring your own equipment!
URL:https://branchedoakobservatory.com/event/3rd-annual-its-gettin-chili-cookoff/
LOCATION:Branched Oak Observatory\, 14300 NW 98th Street\, Raymond\, NE\, 68428\, United States
CATEGORIES:General Public Event
END:VEVENT
END:VCALENDAR