BEGIN:VCALENDAR
VERSION:2.0
PRODID:-//Branched Oak Observatory - ECPv6.15.20//NONSGML v1.0//EN
CALSCALE:GREGORIAN
METHOD:PUBLISH
X-WR-CALNAME:Branched Oak Observatory
X-ORIGINAL-URL:https://branchedoakobservatory.com
X-WR-CALDESC:Events for Branched Oak Observatory
REFRESH-INTERVAL;VALUE=DURATION:PT1H
X-Robots-Tag:noindex
X-PUBLISHED-TTL:PT1H
BEGIN:VTIMEZONE
TZID:America/Chicago
BEGIN:DAYLIGHT
TZOFFSETFROM:-0600
TZOFFSETTO:-0500
TZNAME:CDT
DTSTART:20250309T080000
END:DAYLIGHT
BEGIN:STANDARD
TZOFFSETFROM:-0500
TZOFFSETTO:-0600
TZNAME:CST
DTSTART:20251102T070000
END:STANDARD
BEGIN:DAYLIGHT
TZOFFSETFROM:-0600
TZOFFSETTO:-0500
TZNAME:CDT
DTSTART:20260308T080000
END:DAYLIGHT
BEGIN:STANDARD
TZOFFSETFROM:-0500
TZOFFSETTO:-0600
TZNAME:CST
DTSTART:20261101T070000
END:STANDARD
BEGIN:DAYLIGHT
TZOFFSETFROM:-0600
TZOFFSETTO:-0500
TZNAME:CDT
DTSTART:20270314T080000
END:DAYLIGHT
BEGIN:STANDARD
TZOFFSETFROM:-0500
TZOFFSETTO:-0600
TZNAME:CST
DTSTART:20271107T070000
END:STANDARD
END:VTIMEZONE
BEGIN:VEVENT
DTSTART;TZID=America/Chicago:20261113T190000
DTEND;TZID=America/Chicago:20261113T230000
DTSTAMP:20260419T223710
CREATED:20260305T011937Z
LAST-MODIFIED:20260305T011937Z
UID:10001500-1794596400-1794610800@branchedoakobservatory.com
SUMMARY:Paranormal Investigating Experience Part 2
DESCRIPTION:Come join us November 13th from 7-11pm for a night of hands-on Paranormal Investigation experience at the Branched Oak Observatory. If you have ever wanted to learn how real investigations are run\, this is your chance to step into it and experience it in a location with the right atmosphere for it.\n\nIf you enjoyed the first event in March\, this will build upon that previous event.\n\n\nAdmission: $20 per person\n$10 per 10 and under\n\n\nWhat to expect:\n\n\n\nHands-on experience with our paranormal tools\nYou are welcome to bring your own paranormal gear\nShare hauntings and personal stories\nA live\, active paranormal investigation\nThe opportunity to apply to become a Paranormal L.I.G.H.T.S member\nLearn outer space stuff and more\n\nLead Paranormal Investigator Nick Downs will lead this experience.
URL:https://branchedoakobservatory.com/event/paranormal-investigating-experience-part-2/
LOCATION:Branched Oak Observatory\, 14300 NW 98th Street\, Raymond\, NE\, 68428\, United States
CATEGORIES:General Public Event
END:VEVENT
END:VCALENDAR