BEGIN:VCALENDAR
VERSION:2.0
PRODID:-//Branched Oak Observatory - ECPv6.15.20//NONSGML v1.0//EN
CALSCALE:GREGORIAN
METHOD:PUBLISH
X-ORIGINAL-URL:https://branchedoakobservatory.com
X-WR-CALDESC:Events for Branched Oak Observatory
REFRESH-INTERVAL;VALUE=DURATION:PT1H
X-Robots-Tag:noindex
X-PUBLISHED-TTL:PT1H
BEGIN:VTIMEZONE
TZID:America/Chicago
BEGIN:DAYLIGHT
TZOFFSETFROM:-0600
TZOFFSETTO:-0500
TZNAME:CDT
DTSTART:20250309T080000
END:DAYLIGHT
BEGIN:STANDARD
TZOFFSETFROM:-0500
TZOFFSETTO:-0600
TZNAME:CST
DTSTART:20251102T070000
END:STANDARD
BEGIN:DAYLIGHT
TZOFFSETFROM:-0600
TZOFFSETTO:-0500
TZNAME:CDT
DTSTART:20260308T080000
END:DAYLIGHT
BEGIN:STANDARD
TZOFFSETFROM:-0500
TZOFFSETTO:-0600
TZNAME:CST
DTSTART:20261101T070000
END:STANDARD
BEGIN:DAYLIGHT
TZOFFSETFROM:-0600
TZOFFSETTO:-0500
TZNAME:CDT
DTSTART:20270314T080000
END:DAYLIGHT
BEGIN:STANDARD
TZOFFSETFROM:-0500
TZOFFSETTO:-0600
TZNAME:CST
DTSTART:20271107T070000
END:STANDARD
END:VTIMEZONE
BEGIN:VEVENT
DTSTART;TZID=America/Chicago:20260919T200000
DTEND;TZID=America/Chicago:20260919T235900
DTSTAMP:20260419T193353
CREATED:20260218T063335Z
LAST-MODIFIED:20260219T221545Z
UID:10001486-1789848000-1789862340@branchedoakobservatory.com
SUMMARY:International Observe the Moon Night
DESCRIPTION:Come to the Branched Oak Observatory and view our closest celestial partner. Come see the moon as you have never seen it before thru a wide variety of telescopes\, and take our own pictures. Free admission for all.
URL:https://branchedoakobservatory.com/event/international-observe-the-moon-night-2/
LOCATION:Branched Oak Observatory\, 14300 NW 98th Street\, Raymond\, NE\, 68428\, United States
CATEGORIES:General Public Event
END:VEVENT
END:VCALENDAR