BEGIN:VCALENDAR
VERSION:2.0
PRODID:-//Branched Oak Observatory - ECPv6.15.20//NONSGML v1.0//EN
CALSCALE:GREGORIAN
METHOD:PUBLISH
X-WR-CALNAME:Branched Oak Observatory
X-ORIGINAL-URL:https://branchedoakobservatory.com
X-WR-CALDESC:Events for Branched Oak Observatory
REFRESH-INTERVAL;VALUE=DURATION:PT1H
X-Robots-Tag:noindex
X-PUBLISHED-TTL:PT1H
BEGIN:VTIMEZONE
TZID:America/Chicago
BEGIN:DAYLIGHT
TZOFFSETFROM:-0600
TZOFFSETTO:-0500
TZNAME:CDT
DTSTART:20250309T080000
END:DAYLIGHT
BEGIN:STANDARD
TZOFFSETFROM:-0500
TZOFFSETTO:-0600
TZNAME:CST
DTSTART:20251102T070000
END:STANDARD
BEGIN:DAYLIGHT
TZOFFSETFROM:-0600
TZOFFSETTO:-0500
TZNAME:CDT
DTSTART:20260308T080000
END:DAYLIGHT
BEGIN:STANDARD
TZOFFSETFROM:-0500
TZOFFSETTO:-0600
TZNAME:CST
DTSTART:20261101T070000
END:STANDARD
BEGIN:DAYLIGHT
TZOFFSETFROM:-0600
TZOFFSETTO:-0500
TZNAME:CDT
DTSTART:20270314T080000
END:DAYLIGHT
BEGIN:STANDARD
TZOFFSETFROM:-0500
TZOFFSETTO:-0600
TZNAME:CST
DTSTART:20271107T070000
END:STANDARD
END:VTIMEZONE
BEGIN:VEVENT
DTSTART;TZID=America/Chicago:20260815T170000
DTEND;TZID=America/Chicago:20260815T235900
DTSTAMP:20260419T175906
CREATED:20260218T062254Z
LAST-MODIFIED:20260219T215517Z
UID:10001483-1786813200-1786838340@branchedoakobservatory.com
SUMMARY:1st Annual Astrocon at the BOO(like a comic-con\, but cooler)
DESCRIPTION:Come to the Branched Oak Observatory’s first annual Astrocon and have fun as we explore the past that looked to the future. Come dressed in your favorite space gear/character and mingle with like minded individuals\, We will have multiple vendors\, book authors and other fun engagement activities.
URL:https://branchedoakobservatory.com/event/1st-annual-astrocon-at-the-boolike-a-comic-con-but-cooler/
LOCATION:Branched Oak Observatory\, 14300 NW 98th Street\, Raymond\, NE\, 68428\, United States
CATEGORIES:General Public Event
END:VEVENT
BEGIN:VEVENT
DTSTART;TZID=America/Chicago:20260815T170000
DTEND;TZID=America/Chicago:20260815T235900
DTSTAMP:20260419T175906
CREATED:20260218T062748Z
LAST-MODIFIED:20260219T215720Z
UID:10001485-1786813200-1786838340@branchedoakobservatory.com
SUMMARY:1st Annual Astrocon at the BOO (like a comic-con\, but cooler)
DESCRIPTION:Come to the 1st annual Astrocon at the BOO. Come in your favorite space-themed gear or character and mingle with like minded people. We will have multiple food and beverage venders\, book authors\, space crafts and other classroom activities as we honor the past by looking at the future.
URL:https://branchedoakobservatory.com/event/1st-annual-astrocon-at-the-boo-like-a-comic-con-but-cooler/
LOCATION:Branched Oak Observatory\, 14300 NW 98th Street\, Raymond\, NE\, 68428\, United States
CATEGORIES:General Public Event
END:VEVENT
END:VCALENDAR