BEGIN:VCALENDAR
VERSION:2.0
PRODID:-//Branched Oak Observatory - ECPv6.15.20//NONSGML v1.0//EN
CALSCALE:GREGORIAN
METHOD:PUBLISH
X-WR-CALNAME:Branched Oak Observatory
X-ORIGINAL-URL:https://branchedoakobservatory.com
X-WR-CALDESC:Events for Branched Oak Observatory
REFRESH-INTERVAL;VALUE=DURATION:PT1H
X-Robots-Tag:noindex
X-PUBLISHED-TTL:PT1H
BEGIN:VTIMEZONE
TZID:America/Chicago
BEGIN:DAYLIGHT
TZOFFSETFROM:-0600
TZOFFSETTO:-0500
TZNAME:CDT
DTSTART:20250309T080000
END:DAYLIGHT
BEGIN:STANDARD
TZOFFSETFROM:-0500
TZOFFSETTO:-0600
TZNAME:CST
DTSTART:20251102T070000
END:STANDARD
BEGIN:DAYLIGHT
TZOFFSETFROM:-0600
TZOFFSETTO:-0500
TZNAME:CDT
DTSTART:20260308T080000
END:DAYLIGHT
BEGIN:STANDARD
TZOFFSETFROM:-0500
TZOFFSETTO:-0600
TZNAME:CST
DTSTART:20261101T070000
END:STANDARD
BEGIN:DAYLIGHT
TZOFFSETFROM:-0600
TZOFFSETTO:-0500
TZNAME:CDT
DTSTART:20270314T080000
END:DAYLIGHT
BEGIN:STANDARD
TZOFFSETFROM:-0500
TZOFFSETTO:-0600
TZNAME:CST
DTSTART:20271107T070000
END:STANDARD
END:VTIMEZONE
BEGIN:VEVENT
DTSTART;TZID=America/Chicago:20260704T170000
DTEND;TZID=America/Chicago:20260704T235900
DTSTAMP:20260419T143727
CREATED:20260218T055321Z
LAST-MODIFIED:20260219T214958Z
UID:10001479-1783184400-1783209540@branchedoakobservatory.com
SUMMARY:250th US Anniversary Celebration
DESCRIPTION:No fireworks. An enjoyable and quieter alternative for you\, your family and your leashed pets. Enjoy the summer evening underneath the starry skies and see natures fireworks\, the fireworks nebula. Bring your own food for a picnic (no grills). Yard games\, space crafts\, chalk art\, safe solar viewing and top it off with a tour of the night sky. Holiday special\, admission $5 each\, or $20 for families of 4 or more.
URL:https://branchedoakobservatory.com/event/250th-us-anniversary-celebration/
LOCATION:Branched Oak Observatory\, 14300 NW 98th Street\, Raymond\, NE\, 68428\, United States
CATEGORIES:General Public Event
END:VEVENT
END:VCALENDAR